BEGIN:VCALENDAR
VERSION:2.0
PRODID:-//Plone.org//NONSGML plone.app.event//EN
X-WR-TIMEZONE:Europe/Lisbon
BEGIN:VEVENT
SUMMARY:Votação nas propostas do OPE 2023
DTSTART;VALUE=DATE:20230324
DTEND;VALUE=DATE:20230325
DTSTAMP;VALUE=DATE-TIME:20260421T212925Z
UID:0e654fdf905242ce9b526c12f90d5667@zope
CONTACT:https://opescolas.pt/candidaturas/index.php
CREATED;VALUE=DATE-TIME:20230320T015112Z
DESCRIPTION:Orçamento Participativo das Escolas
LAST-MODIFIED;VALUE=DATE-TIME:20250617T113207Z
URL:https://www.alpoente.gov.pt/agrupamento/eventos/votacao-nas-propostas-
 do-ope-2023
END:VEVENT
END:VCALENDAR
