BEGIN:VCALENDAR
VERSION:2.0
PRODID:-//Plone.org//NONSGML plone.app.event//EN
X-WR-TIMEZONE:Europe/Lisbon
BEGIN:VEVENT
SUMMARY:Subsídio escolar — candidatura
DTSTART;VALUE=DATE:20240628
DTEND;VALUE=DATE:20240629
DTSTAMP;VALUE=DATE-TIME:20260422T110038Z
UID:00df9a5942914f91a5a24696cfc2543e@zope
CONTACT:Ação Social Escolar\, sase@alpoente.org\, https://www.alpoente.g
 ov.pt/servicos/administracao-escolar/ase
CREATED;VALUE=DATE-TIME:20240430T125045Z
LAST-MODIFIED;VALUE=DATE-TIME:20250617T113207Z
URL:https://www.alpoente.gov.pt/agrupamento/eventos/subsidio-escolar-2024-
 candidatura
END:VEVENT
END:VCALENDAR
