BEGIN:VCALENDAR
VERSION:2.0
PRODID:-//Plone.org//NONSGML plone.app.event//EN
X-WR-TIMEZONE:Europe/Lisbon
BEGIN:VEVENT
SUMMARY:Reuniões com encarregados de educação
DTSTART;VALUE=DATE:20230926
DTEND;VALUE=DATE:20230929
DTSTAMP;VALUE=DATE-TIME:20260422T051400Z
UID:0eb44f8cf6c841879efe0eac2755a5fc@zope
ATTENDEE;CN="Encarregados de Educação";ROLE=REQ-PARTICIPANT:Encarregados
  de Educação
ATTENDEE;CN="Diretores de Turma";ROLE=REQ-PARTICIPANT:Diretores de Turma
CREATED;VALUE=DATE-TIME:20220915T153413Z
LAST-MODIFIED;VALUE=DATE-TIME:20250617T113207Z
LOCATION:Escola Secundária de Albufeira
URL:https://www.alpoente.gov.pt/agrupamento/eventos/reunioes-enc-educ-esa-
 2023-09
END:VEVENT
END:VCALENDAR
