BEGIN:VCALENDAR
VERSION:2.0
PRODID:-//Plone.org//NONSGML plone.app.event//EN
X-WR-TIMEZONE:Europe/Lisbon
BEGIN:VEVENT
SUMMARY:Reuniões com encarregados de educação — 2.º\, 3.º Ciclo e S
 ecundário
DTSTART;VALUE=DATE:20220926
DTEND;VALUE=DATE:20221004
DTSTAMP;VALUE=DATE-TIME:20260422T012649Z
UID:bf9b08def59c4d9cb78294876b872979@zope
ATTENDEE;CN="Encarregados de Educação";ROLE=REQ-PARTICIPANT:Encarregados
  de Educação
ATTENDEE;CN="Diretores de Turma";ROLE=REQ-PARTICIPANT:Diretores de Turma
CREATED;VALUE=DATE-TIME:20220915T153413Z
LAST-MODIFIED;VALUE=DATE-TIME:20250617T113207Z
URL:https://www.alpoente.gov.pt/agrupamento/eventos/reunioes-enc-educ-2o-3
 o-ciclo-e-secundario
END:VEVENT
END:VCALENDAR
