BEGIN:VCALENDAR
VERSION:2.0
PRODID:-//Plone.org//NONSGML plone.app.event//EN
X-WR-TIMEZONE:Europe/Lisbon
BEGIN:VEVENT
SUMMARY:Reunião com os Encarregados de Educação — Pré-Escolar
DTSTART;VALUE=DATE:20220912
DTEND;VALUE=DATE:20220913
DTSTAMP;VALUE=DATE-TIME:20260422T010520Z
UID:5949c9eeed824cfdaec8e178f56a5706@zope
ATTENDEE;CN="Encarregados de Educação";ROLE=REQ-PARTICIPANT:Encarregados
  de Educação
ATTENDEE;CN=Educadoras;ROLE=REQ-PARTICIPANT:Educadoras
CREATED;VALUE=DATE-TIME:20220907T194106Z
LAST-MODIFIED;VALUE=DATE-TIME:20250617T113206Z
LOCATION:Jardins de Infância do Agrupamento
URL:https://www.alpoente.gov.pt/agrupamento/eventos/reuniao-com-os-encarre
 gados-de-educacao
END:VEVENT
END:VCALENDAR
