BEGIN:VCALENDAR
VERSION:2.0
PRODID:-//Plone.org//NONSGML plone.app.event//EN
X-WR-TIMEZONE:Europe/Lisbon
BEGIN:VEVENT
SUMMARY:Reunião com os Encarregados de Educação (JIVP)
DTSTART;TZID=Europe/Lisbon;VALUE=DATE-TIME:20230914T153000
DTSTAMP;VALUE=DATE-TIME:20260422T051338Z
UID:9875051897024ecaa7d454ee7ddb79cf@zope
CREATED;VALUE=DATE-TIME:20230906T102001Z
DESCRIPTION:Jardim de Infância de Vale Parra
LAST-MODIFIED;VALUE=DATE-TIME:20250617T113207Z
LOCATION:Polivalente do JI de Vale Parra
URL:https://www.alpoente.gov.pt/agrupamento/eventos/reuniao-com-os-encarre
 gados-de-educacao-23-24-jivp
END:VEVENT
BEGIN:VTIMEZONE
TZID:Europe/Lisbon
X-LIC-LOCATION:Europe/Lisbon
BEGIN:DAYLIGHT
DTSTART;VALUE=DATE-TIME:20230326T020000
TZNAME:WEST
TZOFFSETFROM:+0000
TZOFFSETTO:+0100
END:DAYLIGHT
END:VTIMEZONE
END:VCALENDAR
