BEGIN:VCALENDAR
VERSION:2.0
PRODID:-//Plone.org//NONSGML plone.app.event//EN
X-WR-TIMEZONE:Europe/Lisbon
BEGIN:VEVENT
SUMMARY:Reunião com os Encarregados de Educação (JIG)
DTSTART;TZID=Europe/Lisbon;VALUE=DATE-TIME:20230914T163000
DTSTAMP;VALUE=DATE-TIME:20260422T111245Z
UID:dcb4a263de77459cb53c318e72c0453a@zope
CREATED;VALUE=DATE-TIME:20230906T102138Z
DESCRIPTION:Jardim de Infância da Guia
LAST-MODIFIED;VALUE=DATE-TIME:20250617T113207Z
LOCATION:Auditório da EB da Guia
URL:https://www.alpoente.gov.pt/agrupamento/eventos/reuniao-com-os-encarre
 gados-de-educacao-23-24-jig
END:VEVENT
BEGIN:VTIMEZONE
TZID:Europe/Lisbon
X-LIC-LOCATION:Europe/Lisbon
BEGIN:DAYLIGHT
DTSTART;VALUE=DATE-TIME:20230326T020000
TZNAME:WEST
TZOFFSETFROM:+0000
TZOFFSETTO:+0100
END:DAYLIGHT
END:VTIMEZONE
END:VCALENDAR
