BEGIN:VCALENDAR
VERSION:2.0
PRODID:-//Plone.org//NONSGML plone.app.event//EN
X-WR-TIMEZONE:Europe/Lisbon
BEGIN:VEVENT
SUMMARY:Reunião com os Encarregados de Educação (JIA)
DTSTART;TZID=Europe/Lisbon;VALUE=DATE-TIME:20230914T143000
DTSTAMP;VALUE=DATE-TIME:20260421T203510Z
UID:769e4400675e407583cc53c7a4b7d22d@zope
CREATED;VALUE=DATE-TIME:20230906T101738Z
DESCRIPTION:Jardim de Infância Escola Básica N.º 1 de Albufeira
LAST-MODIFIED;VALUE=DATE-TIME:20250617T113206Z
LOCATION:Refeitório da EB/JI N.º 1 de Albufeira
URL:https://www.alpoente.gov.pt/agrupamento/eventos/reuniao-com-os-encarre
 gados-de-educacao-23-24-jia
END:VEVENT
BEGIN:VTIMEZONE
TZID:Europe/Lisbon
X-LIC-LOCATION:Europe/Lisbon
BEGIN:DAYLIGHT
DTSTART;VALUE=DATE-TIME:20230326T020000
TZNAME:WEST
TZOFFSETFROM:+0000
TZOFFSETTO:+0100
END:DAYLIGHT
END:VTIMEZONE
END:VCALENDAR
