BEGIN:VCALENDAR
VERSION:2.0
PRODID:-//Plone.org//NONSGML plone.app.event//EN
X-WR-TIMEZONE:Europe/Lisbon
BEGIN:VEVENT
SUMMARY:Resultados dos exames
DTSTART;TZID=Europe/Lisbon;VALUE=DATE-TIME:20230717T090000
DTSTAMP;VALUE=DATE-TIME:20260421T200802Z
UID:9dcf958e68894dfc87559416122c9b16@zope
CONTACT:Secretariado de Exames\, exames2023@alpoente.org\, https://www.alp
 oente.gov.pt/info/exames-e-provas
CREATED;VALUE=DATE-TIME:20230717T122400Z
DESCRIPTION:Afixação de resultados da 1.ª fase dos exames nacionais
LAST-MODIFIED;VALUE=DATE-TIME:20250617T113206Z
LOCATION:Escola Secundária de Albufeira
URL:https://www.alpoente.gov.pt/agrupamento/eventos/resultados-dos-exames
END:VEVENT
BEGIN:VTIMEZONE
TZID:Europe/Lisbon
X-LIC-LOCATION:Europe/Lisbon
BEGIN:DAYLIGHT
DTSTART;VALUE=DATE-TIME:20230326T020000
TZNAME:WEST
TZOFFSETFROM:+0000
TZOFFSETTO:+0100
END:DAYLIGHT
END:VTIMEZONE
END:VCALENDAR
