BEGIN:VCALENDAR
VERSION:2.0
PRODID:-//Plone.org//NONSGML plone.app.event//EN
X-WR-TIMEZONE:Europe/Lisbon
BEGIN:VEVENT
SUMMARY:Receção para todos os anos de escolaridade
DTSTART;VALUE=DATE:20210916
DTEND;VALUE=DATE:20210918
DTSTAMP;VALUE=DATE-TIME:20260422T124201Z
UID:ff63c546f6874cd6818fd42e26a01d09@zope
ATTENDEE;CN="Todos os alunos";ROLE=REQ-PARTICIPANT:Todos os alunos
CREATED;VALUE=DATE-TIME:20210922T222028Z
LAST-MODIFIED;VALUE=DATE-TIME:20250617T113206Z
LOCATION:Todas as escolas do agrupamento
URL:https://www.alpoente.gov.pt/agrupamento/eventos/rececao-para-todos-os-
 anos-de-escolaridade
END:VEVENT
END:VCALENDAR
