BEGIN:VCALENDAR
VERSION:2.0
PRODID:-//Plone.org//NONSGML plone.app.event//EN
X-WR-TIMEZONE:Europe/Lisbon
BEGIN:VEVENT
SUMMARY:Receção das crianças — Pré-Escolar
DTSTART;VALUE=DATE:20220916
DTEND;VALUE=DATE:20220917
DTSTAMP;VALUE=DATE-TIME:20260421T195102Z
UID:9533d2d66a1d403fa63a95fdcc2cba78@zope
ATTENDEE;CN=Crianças;ROLE=REQ-PARTICIPANT:Crianças
ATTENDEE;CN=Educadoras;ROLE=REQ-PARTICIPANT:Educadoras
CREATED;VALUE=DATE-TIME:20220907T194754Z
LAST-MODIFIED;VALUE=DATE-TIME:20250617T113206Z
LOCATION:Jardins de Infância do Agrupamento
URL:https://www.alpoente.gov.pt/agrupamento/eventos/rececao-das-criancas
END:VEVENT
END:VCALENDAR
