BEGIN:VCALENDAR
VERSION:2.0
PRODID:-//Plone.org//NONSGML plone.app.event//EN
X-WR-TIMEZONE:Europe/Lisbon
BEGIN:VEVENT
SUMMARY:Receção aos alunos — 2.º\, 3.º Ciclo e Secundário
DTSTART;VALUE=DATE:20220916
DTEND;VALUE=DATE:20220917
DTSTAMP;VALUE=DATE-TIME:20260422T010444Z
UID:81214136ce3f4252a8a74ad6ad7709b5@zope
ATTENDEE;CN=Alunos;ROLE=REQ-PARTICIPANT:Alunos
ATTENDEE;CN="Diretores de Turma";ROLE=REQ-PARTICIPANT:Diretores de Turma
CREATED;VALUE=DATE-TIME:20220907T200458Z
LAST-MODIFIED;VALUE=DATE-TIME:20250617T113206Z
URL:https://www.alpoente.gov.pt/agrupamento/eventos/rececao-aos-alunos
END:VEVENT
END:VCALENDAR
