BEGIN:VCALENDAR
VERSION:2.0
PRODID:-//Plone.org//NONSGML plone.app.event//EN
X-WR-TIMEZONE:Europe/Lisbon
BEGIN:VEVENT
SUMMARY:Receção aos alunos e aos Encarregados de Educação — 1.º Cic
 lo
DTSTART;VALUE=DATE:20220916
DTEND;VALUE=DATE:20220917
DTSTAMP;VALUE=DATE-TIME:20260422T051948Z
UID:77c16c23e3b1431d84c1d000116e0412@zope
ATTENDEE;CN=Alunos;ROLE=REQ-PARTICIPANT:Alunos
ATTENDEE;CN="Encarregados de Educação";ROLE=REQ-PARTICIPANT:Encarregados
  de Educação
CREATED;VALUE=DATE-TIME:20220907T195817Z
LAST-MODIFIED;VALUE=DATE-TIME:20250617T113206Z
URL:https://www.alpoente.gov.pt/agrupamento/eventos/rececao-aos-alunos-e-a
 os-encarregados-de-educacao
END:VEVENT
END:VCALENDAR
