BEGIN:VCALENDAR
VERSION:2.0
PRODID:-//Plone.org//NONSGML plone.app.event//EN
X-WR-TIMEZONE:Europe/Lisbon
BEGIN:VEVENT
SUMMARY:Receção aos Alunos (MF78)
DTSTART;TZID=Europe/Lisbon;VALUE=DATE-TIME:20230915T103000
DTEND;TZID=Europe/Lisbon;VALUE=DATE-TIME:20230915T113000
DTSTAMP;VALUE=DATE-TIME:20260422T110549Z
UID:2342df0b9b9c4ae6881604e599095a28@zope
CREATED;VALUE=DATE-TIME:20230906T102518Z
DESCRIPTION:3.º ciclo (7.º e 8.º anos)
LAST-MODIFIED;VALUE=DATE-TIME:20250617T113206Z
LOCATION:Escola Básica Martim Fernandes
URL:https://www.alpoente.gov.pt/agrupamento/eventos/rececao-aos-alunos-23-
 24-mf-7-8
END:VEVENT
BEGIN:VTIMEZONE
TZID:Europe/Lisbon
X-LIC-LOCATION:Europe/Lisbon
BEGIN:DAYLIGHT
DTSTART;VALUE=DATE-TIME:20230326T020000
TZNAME:WEST
TZOFFSETFROM:+0000
TZOFFSETTO:+0100
END:DAYLIGHT
END:VTIMEZONE
END:VCALENDAR
