BEGIN:VCALENDAR
VERSION:2.0
PRODID:-//Plone.org//NONSGML plone.app.event//EN
X-WR-TIMEZONE:Europe/Lisbon
BEGIN:VEVENT
SUMMARY:Receção aos Alunos (EB1)
DTSTART;TZID=Europe/Lisbon;VALUE=DATE-TIME:20230915T090000
DTEND;TZID=Europe/Lisbon;VALUE=DATE-TIME:20230915T123000
DTSTAMP;VALUE=DATE-TIME:20260422T010336Z
UID:c7c9e01913194a4ba13c0df4e3c99882@zope
CREATED;VALUE=DATE-TIME:20230906T102518Z
DESCRIPTION:1.º ciclo do Ensino Básico
LAST-MODIFIED;VALUE=DATE-TIME:20250617T113206Z
LOCATION:Escolas do 1.º Ciclo do E. B.
URL:https://www.alpoente.gov.pt/agrupamento/eventos/rececao-aos-alunos-23-
 24-jieb1
END:VEVENT
BEGIN:VTIMEZONE
TZID:Europe/Lisbon
X-LIC-LOCATION:Europe/Lisbon
BEGIN:DAYLIGHT
DTSTART;VALUE=DATE-TIME:20230326T020000
TZNAME:WEST
TZOFFSETFROM:+0000
TZOFFSETTO:+0100
END:DAYLIGHT
END:VTIMEZONE
END:VCALENDAR
