BEGIN:VCALENDAR
VERSION:2.0
PRODID:-//Plone.org//NONSGML plone.app.event//EN
X-WR-TIMEZONE:Europe/Lisbon
BEGIN:VEVENT
SUMMARY:Receção aos Alunos (G56)
DTSTART;TZID=Europe/Lisbon;VALUE=DATE-TIME:20230915T090000
DTEND;TZID=Europe/Lisbon;VALUE=DATE-TIME:20230915T103000
DTSTAMP;VALUE=DATE-TIME:20260421T204137Z
UID:a666bdaa50244413bdfe02de4e98d892@zope
CREATED;VALUE=DATE-TIME:20230906T102518Z
DESCRIPTION:2.º ciclo (5.º e 6.º anos)
LAST-MODIFIED;VALUE=DATE-TIME:20250617T113206Z
LOCATION:Escola Básica da Guia
URL:https://www.alpoente.gov.pt/agrupamento/eventos/rececao-aos-alunos-23-
 24-g-5-6
END:VEVENT
BEGIN:VTIMEZONE
TZID:Europe/Lisbon
X-LIC-LOCATION:Europe/Lisbon
BEGIN:DAYLIGHT
DTSTART;VALUE=DATE-TIME:20230326T020000
TZNAME:WEST
TZOFFSETFROM:+0000
TZOFFSETTO:+0100
END:DAYLIGHT
END:VTIMEZONE
END:VCALENDAR
