BEGIN:VCALENDAR
VERSION:2.0
PRODID:-//Plone.org//NONSGML plone.app.event//EN
X-WR-TIMEZONE:Europe/Lisbon
BEGIN:VEVENT
SUMMARY:Receção aos Alunos (CP3)
DTSTART;TZID=Europe/Lisbon;VALUE=DATE-TIME:20230915T113000
DTEND;TZID=Europe/Lisbon;VALUE=DATE-TIME:20230915T123000
DTSTAMP;VALUE=DATE-TIME:20260422T110442Z
UID:cb49f7c562a0441994b8fde8df60e3da@zope
CREATED;VALUE=DATE-TIME:20230906T102518Z
DESCRIPTION:Cursos Profissionais ­— 3.º ano
LAST-MODIFIED;VALUE=DATE-TIME:20250617T113206Z
LOCATION:Escola Secundária de Albufeira
URL:https://www.alpoente.gov.pt/agrupamento/eventos/rececao-aos-alunos-23-
 24-cp-3
END:VEVENT
BEGIN:VTIMEZONE
TZID:Europe/Lisbon
X-LIC-LOCATION:Europe/Lisbon
BEGIN:DAYLIGHT
DTSTART;VALUE=DATE-TIME:20230326T020000
TZNAME:WEST
TZOFFSETFROM:+0000
TZOFFSETTO:+0100
END:DAYLIGHT
END:VTIMEZONE
END:VCALENDAR
