BEGIN:VCALENDAR
VERSION:2.0
PRODID:-//Plone.org//NONSGML plone.app.event//EN
X-WR-TIMEZONE:Europe/Lisbon
BEGIN:VEVENT
SUMMARY:Receção aos Alunos (CP2)
DTSTART;TZID=Europe/Lisbon;VALUE=DATE-TIME:20230915T103000
DTEND;TZID=Europe/Lisbon;VALUE=DATE-TIME:20230915T113000
DTSTAMP;VALUE=DATE-TIME:20260422T051439Z
UID:7ba61ba39f094f10beb0b3a9141d8639@zope
CREATED;VALUE=DATE-TIME:20230906T102518Z
DESCRIPTION:Cursos Profissionais ­— 2.º ano
LAST-MODIFIED;VALUE=DATE-TIME:20250617T113206Z
LOCATION:Escola Secundária de Albufeira
URL:https://www.alpoente.gov.pt/agrupamento/eventos/rececao-aos-alunos-23-
 24-cp-2
END:VEVENT
BEGIN:VTIMEZONE
TZID:Europe/Lisbon
X-LIC-LOCATION:Europe/Lisbon
BEGIN:DAYLIGHT
DTSTART;VALUE=DATE-TIME:20230326T020000
TZNAME:WEST
TZOFFSETFROM:+0000
TZOFFSETTO:+0100
END:DAYLIGHT
END:VTIMEZONE
END:VCALENDAR
