BEGIN:VCALENDAR
VERSION:2.0
PRODID:-//Plone.org//NONSGML plone.app.event//EN
X-WR-TIMEZONE:Europe/Lisbon
BEGIN:VEVENT
SUMMARY:Receção aos Alunos (CCH12)
DTSTART;TZID=Europe/Lisbon;VALUE=DATE-TIME:20230915T113000
DTEND;TZID=Europe/Lisbon;VALUE=DATE-TIME:20230915T123000
DTSTAMP;VALUE=DATE-TIME:20260421T200802Z
UID:6057a5a8606b4a42beba0181ed886c40@zope
CREATED;VALUE=DATE-TIME:20230906T102518Z
DESCRIPTION:Cursos Científico-Humanísticos ­— 12.º ano
LAST-MODIFIED;VALUE=DATE-TIME:20250617T113206Z
LOCATION:Escola Secundária de Albufeira
URL:https://www.alpoente.gov.pt/agrupamento/eventos/rececao-aos-alunos-23-
 24-cch-12
END:VEVENT
BEGIN:VTIMEZONE
TZID:Europe/Lisbon
X-LIC-LOCATION:Europe/Lisbon
BEGIN:DAYLIGHT
DTSTART;VALUE=DATE-TIME:20230326T020000
TZNAME:WEST
TZOFFSETFROM:+0000
TZOFFSETTO:+0100
END:DAYLIGHT
END:VTIMEZONE
END:VCALENDAR
