BEGIN:VCALENDAR
VERSION:2.0
PRODID:-//Plone.org//NONSGML plone.app.event//EN
X-WR-TIMEZONE:Europe/Lisbon
BEGIN:VEVENT
SUMMARY:Provas de Equivalência à Frequência do Secundário — 1.ª Fas
 e
DTSTART;VALUE=DATE:20220617
DTEND;VALUE=DATE:20220720
DTSTAMP;VALUE=DATE-TIME:20260422T110749Z
UID:3b67509e03a441868de4be2365004790@zope
CONTACT:https://www.alpoente.gov.pt/info/exames-e-provas
CREATED;VALUE=DATE-TIME:20220614T201756Z
LAST-MODIFIED;VALUE=DATE-TIME:20250617T113206Z
URL:https://www.alpoente.gov.pt/agrupamento/eventos/provas-de-equivalencia
 -a-frequencia-do-secundario-2014-1-a-fase
END:VEVENT
END:VCALENDAR
