BEGIN:VCALENDAR
VERSION:2.0
PRODID:-//Plone.org//NONSGML plone.app.event//EN
X-WR-TIMEZONE:Europe/Lisbon
BEGIN:VEVENT
SUMMARY:Primeiro Festival das Artes e Cidadania
DTSTART;TZID=Europe/Lisbon;VALUE=DATE-TIME:20220516T101500
DTEND;TZID=Europe/Lisbon;VALUE=DATE-TIME:20220519T170000
DTSTAMP;VALUE=DATE-TIME:20260422T051953Z
UID:dae180202d134c2a859124e27e8900f8@zope
CREATED;VALUE=DATE-TIME:20220517T204627Z
DESCRIPTION:Semana das Artes
LAST-MODIFIED;VALUE=DATE-TIME:20250617T113206Z
LOCATION:Agrupamento de Escolas de Albufeira Poente\; Galeria Municipal\; 
 Auditório Municipal
URL:https://www.alpoente.gov.pt/agrupamento/eventos/primeiro-festival-das-
 artes-e-cidadania
END:VEVENT
BEGIN:VTIMEZONE
TZID:Europe/Lisbon
X-LIC-LOCATION:Europe/Lisbon
BEGIN:DAYLIGHT
DTSTART;VALUE=DATE-TIME:20220327T020000
TZNAME:WEST
TZOFFSETFROM:+0000
TZOFFSETTO:+0100
END:DAYLIGHT
END:VTIMEZONE
END:VCALENDAR
