BEGIN:VCALENDAR
VERSION:2.0
PRODID:-//Plone.org//NONSGML plone.app.event//EN
X-WR-TIMEZONE:Europe/Lisbon
BEGIN:VEVENT
SUMMARY:Provas de Equivalência à Frequência do Secundário — 2.ª Fas
 e
DTSTART;VALUE=DATE:20220722
DTEND;VALUE=DATE:20220730
DTSTAMP;VALUE=DATE-TIME:20260422T050629Z
UID:fe9f2db96b5d4c81b3d953218960ae0b@zope
CATEGORIES:exames
CONTACT:https://www.alpoente.gov.pt/info/exames-e-provas
CREATED;VALUE=DATE-TIME:20220614T202112Z
LAST-MODIFIED;VALUE=DATE-TIME:20250617T113206Z
URL:https://www.alpoente.gov.pt/agrupamento/eventos/pef-secundario-2a-fase
END:VEVENT
END:VCALENDAR
