BEGIN:VCALENDAR
VERSION:2.0
PRODID:-//Plone.org//NONSGML plone.app.event//EN
X-WR-TIMEZONE:Europe/Lisbon
BEGIN:VEVENT
SUMMARY:Passe escolar
DTSTART;VALUE=DATE:20220722
DTEND;VALUE=DATE:20220723
DTSTAMP;VALUE=DATE-TIME:20260422T050450Z
UID:e6a8c255d87b462e842ff17b025d785c@zope
ATTENDEE;CN="Encarregados de Educação dos alunos que transitem para o 5.
 º ano";ROLE=REQ-PARTICIPANT:Encarregados de Educação dos alunos que tra
 nsitem para o 5.º ano
CONTACT:Helena Teodósio\, 289 599 685\, helena.teodosio@cm-albufeira.pt\,
  https://www.alpoente.gov.pt/info/transporte-escolar/passe-escolar
CREATED;VALUE=DATE-TIME:20220624T114755Z
DESCRIPTION:(carreiras públicas)
LAST-MODIFIED;VALUE=DATE-TIME:20250617T113205Z
LOCATION:Divisão de Educação (Instalações Municipais do Páteo – Bl
 oco A)
URL:https://www.alpoente.gov.pt/agrupamento/eventos/pedidos-de-transporte-
 escolar
END:VEVENT
END:VCALENDAR
