BEGIN:VCALENDAR
VERSION:2.0
PRODID:-//Plone.org//NONSGML plone.app.event//EN
X-WR-TIMEZONE:Europe/Lisbon
BEGIN:VEVENT
SUMMARY:Pedidos de Transporte Escolar em Circuitos Especiais
DTSTART;VALUE=DATE:20220623
DTEND;VALUE=DATE:20220720
DTSTAMP;VALUE=DATE-TIME:20260422T110616Z
UID:3d0b44f19f2e4fa8a450736b984254f1@zope
ATTENDEE;CN="Encarregados de Educação";ROLE=REQ-PARTICIPANT:Encarregados
  de Educação
CONTACT:Helena Teodósio\, 289 599 685\, helena.teodosio@cm-albufeira.pt\,
  https://www.alpoente.gov.pt/info/transporte-escolar/pedidos-de-transporte
 -escolar-em-circuitos-especiais
CREATED;VALUE=DATE-TIME:20220624T202521Z
DESCRIPTION:(Viaturas do Município)
LAST-MODIFIED;VALUE=DATE-TIME:20250617T113206Z
LOCATION:Divisão de Educação da C.M.A. (Instalações Municipais do Pá
 teo)
URL:https://www.alpoente.gov.pt/agrupamento/eventos/pedidos-de-transporte-
 escolar-em-circuitos-especiais
END:VEVENT
END:VCALENDAR
