BEGIN:VCALENDAR
VERSION:2.0
PRODID:-//Plone.org//NONSGML plone.app.event//EN
X-WR-TIMEZONE:Europe/Lisbon
BEGIN:VEVENT
SUMMARY:Pedidos de Consulta de Prova
DTSTART;VALUE=DATE:20220719
DTEND;VALUE=DATE:20220721
DTSTAMP;VALUE=DATE-TIME:20260421T201315Z
UID:34328e194ffd46a7bcce38ad7b71f10f@zope
CONTACT:https://www.alpoente.gov.pt/info/exames-e-provas
CREATED;VALUE=DATE-TIME:20220713T104121Z
DESCRIPTION:Provas Finais e Exames Finais Nacionais
LAST-MODIFIED;VALUE=DATE-TIME:20250617T113205Z
URL:https://www.alpoente.gov.pt/agrupamento/eventos/pedidos-de-consulta-de
 -prova
END:VEVENT
END:VCALENDAR
