BEGIN:VCALENDAR
VERSION:2.0
PRODID:-//Plone.org//NONSGML plone.app.event//EN
X-WR-TIMEZONE:Europe/Lisbon
BEGIN:VEVENT
SUMMARY:Matrículas — Pré-Escolar e 1.º Ano do Ensino Básico
DTSTART;VALUE=DATE:20250422
DTEND;VALUE=DATE:20250601
DTSTAMP;VALUE=DATE-TIME:20260421T204342Z
UID:a719bcafb22e478290c8756d60ca8e97@zope
CREATED;VALUE=DATE-TIME:20250324T214353Z
LAST-MODIFIED;VALUE=DATE-TIME:20250617T113205Z
URL:https://www.alpoente.gov.pt/agrupamento/eventos/matriculas-pre-escolar
 -e-1o-ano
END:VEVENT
END:VCALENDAR
