BEGIN:VCALENDAR
VERSION:2.0
PRODID:-//Plone.org//NONSGML plone.app.event//EN
X-WR-TIMEZONE:Europe/Lisbon
BEGIN:VEVENT
SUMMARY:Matrículas — 6.º\, 7.º\, 8.º\, 9.º e 11.º Ano
DTSTART;VALUE=DATE:20250616
DTEND;VALUE=DATE:20250628
DTSTAMP;VALUE=DATE-TIME:20260422T010055Z
UID:3b1471889b4a4f44a1c94bf0c4b86097@zope
CREATED;VALUE=DATE-TIME:20250324T214946Z
LAST-MODIFIED;VALUE=DATE-TIME:20250617T113205Z
URL:https://www.alpoente.gov.pt/agrupamento/eventos/matriculas-6-7-8-9-11
END:VEVENT
END:VCALENDAR
