BEGIN:VCALENDAR
VERSION:2.0
PRODID:-//Plone.org//NONSGML plone.app.event//EN
X-WR-TIMEZONE:Europe/Lisbon
BEGIN:VEVENT
SUMMARY:Matrículas 2022/2023
DTSTART;VALUE=DATE:20220419
DTEND;VALUE=DATE:20220517
DTSTAMP;VALUE=DATE-TIME:20260422T051214Z
UID:45ca2c6954934928ba5f172f4ee08327@zope
ATTENDEE;CN="Alunos da educação pré-escolar e do 1.º ano do 1.º ciclo
  do ensino básico";ROLE=REQ-PARTICIPANT:Alunos da educação pré-escolar
  e do 1.º ano do 1.º ciclo do ensino básico
CONTACT:https://portaldasmatriculas.edu.gov.pt/
CREATED;VALUE=DATE-TIME:20220413T185754Z
DESCRIPTION:Educação pré-escolar e 1.º ano do 1.º ciclo do ensino bá
 sico
LAST-MODIFIED;VALUE=DATE-TIME:20250617T113205Z
URL:https://www.alpoente.gov.pt/agrupamento/eventos/matriculas-2022-2023
END:VEVENT
END:VCALENDAR
