BEGIN:VCALENDAR
VERSION:2.0
PRODID:-//Plone.org//NONSGML plone.app.event//EN
X-WR-TIMEZONE:Europe/Lisbon
BEGIN:VEVENT
SUMMARY:Matrículas 2022/2023
DTSTART;VALUE=DATE:20220617
DTEND;VALUE=DATE:20220702
DTSTAMP;VALUE=DATE-TIME:20260421T204631Z
UID:69a287771825447dad46efc959e4914d@zope
ATTENDEE;CN="Alunos do 8.º e 9.º ano do ensino básico e alunos do ensin
 o secundário";ROLE=REQ-PARTICIPANT:Alunos do 8.º e 9.º ano do ensino b
 ásico e alunos do ensino secundário
CONTACT:https://portaldasmatriculas.edu.gov.pt/
CREATED;VALUE=DATE-TIME:20220413T185754Z
DESCRIPTION:8.º e 9.º ano do ensino básico e para o ensino secundário
LAST-MODIFIED;VALUE=DATE-TIME:20250617T113205Z
URL:https://www.alpoente.gov.pt/agrupamento/eventos/matriculas-2022-2023-3
END:VEVENT
END:VCALENDAR
