BEGIN:VCALENDAR
VERSION:2.0
PRODID:-//Plone.org//NONSGML plone.app.event//EN
X-WR-TIMEZONE:Europe/Lisbon
BEGIN:VEVENT
SUMMARY:Matrículas 2022/2023
DTSTART;VALUE=DATE:20220709
DTEND;VALUE=DATE:20220720
DTSTAMP;VALUE=DATE-TIME:20260422T124831Z
UID:e5b650b2831b4161a8dcdaa06f23ff3a@zope
ATTENDEE;CN="Alunos do 2.º ao 7.º  ano do ensino básico";ROLE=REQ-PARTI
 CIPANT:Alunos do 2.º ao 7.º  ano do ensino básico
CONTACT:https://portaldasmatriculas.edu.gov.pt/
CREATED;VALUE=DATE-TIME:20220413T185754Z
DESCRIPTION:2.º ao 7.º ano do ensino básico
LAST-MODIFIED;VALUE=DATE-TIME:20250617T113205Z
URL:https://www.alpoente.gov.pt/agrupamento/eventos/matriculas-2022-2023-2
END:VEVENT
END:VCALENDAR
