BEGIN:VCALENDAR
VERSION:2.0
PRODID:-//Plone.org//NONSGML plone.app.event//EN
X-WR-TIMEZONE:Europe/Lisbon
BEGIN:VEVENT
SUMMARY:Matrículas — 2.º\, 3.º\, 4.º e 5.º Ano
DTSTART;VALUE=DATE:20250601
DTEND;VALUE=DATE:20250612
DTSTAMP;VALUE=DATE-TIME:20260422T010535Z
UID:096cc9a73e4b4549a20402b586cc0978@zope
CREATED;VALUE=DATE-TIME:20250324T215152Z
LAST-MODIFIED;VALUE=DATE-TIME:20250617T113205Z
URL:https://www.alpoente.gov.pt/agrupamento/eventos/matriculas-2-3-4-5
END:VEVENT
END:VCALENDAR
