BEGIN:VCALENDAR
VERSION:2.0
PRODID:-//Plone.org//NONSGML plone.app.event//EN
X-WR-TIMEZONE:Europe/Lisbon
BEGIN:VEVENT
SUMMARY:Matrículas — 10.º e 12.º Ano
DTSTART;VALUE=DATE:20250715
DTEND;VALUE=DATE:20250723
DTSTAMP;VALUE=DATE-TIME:20260421T195746Z
UID:f4433ca7c907495faf8420fd9c82dd31@zope
CREATED;VALUE=DATE-TIME:20250324T215348Z
LAST-MODIFIED;VALUE=DATE-TIME:20250617T113205Z
URL:https://www.alpoente.gov.pt/agrupamento/eventos/matriculas-10-12
END:VEVENT
END:VCALENDAR
