BEGIN:VCALENDAR
VERSION:2.0
PRODID:-//Plone.org//NONSGML plone.app.event//EN
X-WR-TIMEZONE:Europe/Lisbon
BEGIN:VEVENT
SUMMARY:Levantamento de Manuais Escolares nas Escolas
DTSTART;VALUE=DATE:20210916
DTEND;VALUE=DATE:20210917
DTSTAMP;VALUE=DATE-TIME:20260422T010535Z
UID:7eda2f7ab7304feb883f373f97e530ed@zope
ATTENDEE;CN="Encarregados de Educação";ROLE=REQ-PARTICIPANT:Encarregados
  de Educação
CREATED;VALUE=DATE-TIME:20211223T203043Z
LAST-MODIFIED;VALUE=DATE-TIME:20250617T113205Z
LOCATION:E. B. Guia\; E. B. D. Martim Fernandes\; E. S. de Albufeira
URL:https://www.alpoente.gov.pt/agrupamento/eventos/levantamento-de-manuai
 s-escolares-nas-escolas
END:VEVENT
END:VCALENDAR
