BEGIN:VCALENDAR
VERSION:2.0
PRODID:-//Plone.org//NONSGML plone.app.event//EN
X-WR-TIMEZONE:Europe/Lisbon
BEGIN:VEVENT
SUMMARY:Juntos pela paz
DTSTART;TZID=Europe/Lisbon;VALUE=DATE-TIME:20220307T093000
DTEND;TZID=Europe/Lisbon;VALUE=DATE-TIME:20220307T110000
DTSTAMP;VALUE=DATE-TIME:20260421T200604Z
UID:1bb1eeb095fd4c508223d6cadcc304ea@zope
CREATED;VALUE=DATE-TIME:20220303T225712Z
DESCRIPTION:Não devemos perder a essência de família
LAST-MODIFIED;VALUE=DATE-TIME:20250617T113205Z
LOCATION:E. B. D. Martim Fernandes
URL:https://www.alpoente.gov.pt/agrupamento/eventos/juntos-pela-paz
END:VEVENT
BEGIN:VTIMEZONE
TZID:Europe/Lisbon
X-LIC-LOCATION:Europe/Lisbon
BEGIN:STANDARD
DTSTART;VALUE=DATE-TIME:20211031T010000
TZNAME:WET
TZOFFSETFROM:+0100
TZOFFSETTO:+0000
END:STANDARD
END:VTIMEZONE
END:VCALENDAR
