BEGIN:VCALENDAR
VERSION:2.0
PRODID:-//Plone.org//NONSGML plone.app.event//EN
X-WR-TIMEZONE:Europe/Lisbon
BEGIN:VEVENT
SUMMARY:Inscrições para exames — 2.ª fase
DTSTART;VALUE=DATE:20240715
DTEND;VALUE=DATE:20240717
DTSTAMP;VALUE=DATE-TIME:20260421T204036Z
UID:8b965904fe2e4143baa76f29f91f1ce8@zope
CONTACT:https://www.alpoente.gov.pt/info/exames-e-provas
CREATED;VALUE=DATE-TIME:20240227T002309Z
LAST-MODIFIED;VALUE=DATE-TIME:20250617T113205Z
URL:https://www.alpoente.gov.pt/agrupamento/eventos/inscricoes-para-exames
 -2024-2-a-fase
END:VEVENT
END:VCALENDAR
