BEGIN:VCALENDAR
VERSION:2.0
PRODID:-//Plone.org//NONSGML plone.app.event//EN
X-WR-TIMEZONE:Europe/Lisbon
BEGIN:VEVENT
SUMMARY:Inscrições para exames — 1.ª fase
DTSTART;VALUE=DATE:20240226
DTEND;VALUE=DATE:20240309
DTSTAMP;VALUE=DATE-TIME:20260421T201137Z
UID:0d45cf3251104ec094bc68cee32787d0@zope
CONTACT:https://www.alpoente.gov.pt/info/exames-e-provas
CREATED;VALUE=DATE-TIME:20240227T002118Z
LAST-MODIFIED;VALUE=DATE-TIME:20250617T113205Z
URL:https://www.alpoente.gov.pt/agrupamento/eventos/inscricoes-para-exames
 -2014-1-a-fase
END:VEVENT
END:VCALENDAR
