BEGIN:VCALENDAR
VERSION:2.0
PRODID:-//Plone.org//NONSGML plone.app.event//EN
X-WR-TIMEZONE:Europe/Lisbon
BEGIN:VEVENT
SUMMARY:Inscrições para 2.ª fase de exames
DTSTART;TZID=Europe/Lisbon;VALUE=DATE-TIME:20230717T080000
DTEND;TZID=Europe/Lisbon;VALUE=DATE-TIME:20230718T160000
DTSTAMP;VALUE=DATE-TIME:20260422T052106Z
UID:6cd2a40d02464731a07e51e5001d01f7@zope
CONTACT:Secretariado de Exames\, exames2023@alpoente.org\, https://jnepiep
 e.dge.mec.pt/
CREATED;VALUE=DATE-TIME:20230717T123342Z
DESCRIPTION:Repetir para aprovação ou para melhoria
LAST-MODIFIED;VALUE=DATE-TIME:20250617T113205Z
URL:https://www.alpoente.gov.pt/agrupamento/eventos/inscricoes-para-2-a-fa
 se-de-exames
END:VEVENT
BEGIN:VTIMEZONE
TZID:Europe/Lisbon
X-LIC-LOCATION:Europe/Lisbon
BEGIN:DAYLIGHT
DTSTART;VALUE=DATE-TIME:20230326T020000
TZNAME:WEST
TZOFFSETFROM:+0000
TZOFFSETTO:+0100
END:DAYLIGHT
END:VTIMEZONE
END:VCALENDAR
