BEGIN:VCALENDAR
VERSION:2.0
PRODID:-//Plone.org//NONSGML plone.app.event//EN
X-WR-TIMEZONE:Europe/Lisbon
BEGIN:VEVENT
SUMMARY:Inscrições: EFA tipo C
DTSTART;TZID=Europe/Lisbon;VALUE=DATE-TIME:20241230T080000
DTEND;TZID=Europe/Lisbon;VALUE=DATE-TIME:20250221T183000
DTSTAMP;VALUE=DATE-TIME:20260421T200559Z
UID:a6931341f6434fda9a167b5a9fbcabab@zope
CONTACT:Agrupamento de Escolas de Albufeira Poente\, 289 586 779\, geral@a
 lpoente.org
CREATED;VALUE=DATE-TIME:20241230T152806Z
DESCRIPTION:Cursos de Educação e Formação de Adultos
LAST-MODIFIED;VALUE=DATE-TIME:20250617T113205Z
LOCATION:Escolha Secundária de Albufeira
URL:https://www.alpoente.gov.pt/agrupamento/eventos/inscricoes-efa-tipo-c
END:VEVENT
BEGIN:VTIMEZONE
TZID:Europe/Lisbon
X-LIC-LOCATION:Europe/Lisbon
BEGIN:STANDARD
DTSTART;VALUE=DATE-TIME:20241027T010000
TZNAME:WET
TZOFFSETFROM:+0100
TZOFFSETTO:+0000
END:STANDARD
END:VTIMEZONE
END:VCALENDAR
