BEGIN:VCALENDAR
VERSION:2.0
PRODID:-//Plone.org//NONSGML plone.app.event//EN
X-WR-TIMEZONE:Europe/Lisbon
BEGIN:VEVENT
SUMMARY:Inscrição nos cursos 2022/23
DTSTART;VALUE=DATE:20220617
DTEND;VALUE=DATE:20220702
DTSTAMP;VALUE=DATE-TIME:20260422T110244Z
UID:7c35c426973b43b5bae666e4107207f2@zope
CONTACT:https://portaldasmatriculas.edu.gov.pt
CREATED;VALUE=DATE-TIME:20220601T194443Z
DESCRIPTION:Cursos Científico-Humanísticos\, Cursos Profissionais e CEF
LAST-MODIFIED;VALUE=DATE-TIME:20250617T113205Z
URL:https://www.alpoente.gov.pt/agrupamento/eventos/inscricao-nos-cursos-2
 022-23
END:VEVENT
END:VCALENDAR
