BEGIN:VCALENDAR
VERSION:2.0
PRODID:-//Plone.org//NONSGML plone.app.event//EN
X-WR-TIMEZONE:Europe/Lisbon
BEGIN:VEVENT
SUMMARY:Inscrição nos exames da 2.ª fase
DTSTART;VALUE=DATE:20220719
DTEND;VALUE=DATE:20220721
DTSTAMP;VALUE=DATE-TIME:20260422T010055Z
UID:a2b1428cfc6749f098de50ab0ddadfa3@zope
CONTACT:https://www.alpoente.gov.pt/info/exames-e-provas/informacoes-exame
 s-2022
CREATED;VALUE=DATE-TIME:20220601T195522Z
DESCRIPTION:Exames Nacionais e Provas de Equivalência à Frequência do E
 nsino Secundário
LAST-MODIFIED;VALUE=DATE-TIME:20250617T113205Z
URL:https://www.alpoente.gov.pt/agrupamento/eventos/inscricao-exames-2a-fa
 se
END:VEVENT
END:VCALENDAR
