BEGIN:VCALENDAR
VERSION:2.0
PRODID:-//Plone.org//NONSGML plone.app.event//EN
X-WR-TIMEZONE:Europe/Lisbon
BEGIN:VEVENT
SUMMARY:Inscrição nos exames - 1.ª fase
DTSTART;VALUE=DATE:20220325
DTEND;VALUE=DATE:20220405
DTSTAMP;VALUE=DATE-TIME:20260422T063938Z
UID:7ba6aec59e3545b5906516898e0a8cdd@zope
CONTACT:https://www.alpoente.gov.pt/info/exames-e-provas/informacoes-exame
 s-2022
CREATED;VALUE=DATE-TIME:20220601T195232Z
DESCRIPTION:2022
LAST-MODIFIED;VALUE=DATE-TIME:20250617T113205Z
URL:https://www.alpoente.gov.pt/agrupamento/eventos/inscricao-exames-1a-fa
 se
END:VEVENT
END:VCALENDAR
