BEGIN:VCALENDAR
VERSION:2.0
PRODID:-//Plone.org//NONSGML plone.app.event//EN
X-WR-TIMEZONE:Europe/Lisbon
BEGIN:VEVENT
SUMMARY:Início das atividades letivas
DTSTART;VALUE=DATE:20230918
DTEND;VALUE=DATE:20230919
DTSTAMP;VALUE=DATE-TIME:20260422T051840Z
UID:284efad1d4b74ac9bd05ac9fcb2eae30@zope
CREATED;VALUE=DATE-TIME:20230906T102641Z
LAST-MODIFIED;VALUE=DATE-TIME:20250617T113205Z
URL:https://www.alpoente.gov.pt/agrupamento/eventos/inicio-das-atividades-
 letivas-23-24
END:VEVENT
END:VCALENDAR
