BEGIN:VCALENDAR
VERSION:2.0
PRODID:-//Plone.org//NONSGML plone.app.event//EN
X-WR-TIMEZONE:Europe/Lisbon
BEGIN:VEVENT
SUMMARY:Famílias Digitais
DTSTART;TZID=Europe/Lisbon;VALUE=DATE-TIME:20250515T203000
DTSTAMP;VALUE=DATE-TIME:20260421T201137Z
UID:b230236f0e9e439694911910cac9f1e7@zope
CREATED;VALUE=DATE-TIME:20250513T121953Z
DESCRIPTION:Pais informados — Filhos protegidos
LAST-MODIFIED;VALUE=DATE-TIME:20250617T113205Z
LOCATION:Auditório Municipal de Albufeira
URL:https://www.alpoente.gov.pt/agrupamento/eventos/familias-digitais
END:VEVENT
BEGIN:VTIMEZONE
TZID:Europe/Lisbon
X-LIC-LOCATION:Europe/Lisbon
BEGIN:DAYLIGHT
DTSTART;VALUE=DATE-TIME:20250330T020000
TZNAME:WEST
TZOFFSETFROM:+0000
TZOFFSETTO:+0100
END:DAYLIGHT
END:VTIMEZONE
END:VCALENDAR
