BEGIN:VCALENDAR
VERSION:2.0
PRODID:-//Plone.org//NONSGML plone.app.event//EN
X-WR-TIMEZONE:Europe/Lisbon
BEGIN:VEVENT
SUMMARY:Entrega de Diplomas - Quadro de Excelência
DTSTART;TZID=Europe/Lisbon;VALUE=DATE-TIME:20241018T170000
DTSTAMP;VALUE=DATE-TIME:20260421T200646Z
UID:dc93653240f8427c9b356f6de19ae14d@zope
ATTENDEE;CN="Alunos do 1.º e 2.º ciclo do Agrupamento de Escolas de Albu
 feira Poente";ROLE=REQ-PARTICIPANT:Alunos do 1.º e 2.º ciclo do Agrupame
 nto de Escolas de Albufeira Poente
CREATED;VALUE=DATE-TIME:20241001T093934Z
DESCRIPTION:1.º e 2.º ciclo
LAST-MODIFIED;VALUE=DATE-TIME:20250617T113205Z
LOCATION:Auditório da Câmara Municipal de Albufeira
URL:https://www.alpoente.gov.pt/agrupamento/eventos/entrega-de-diplomas
END:VEVENT
BEGIN:VTIMEZONE
TZID:Europe/Lisbon
X-LIC-LOCATION:Europe/Lisbon
BEGIN:DAYLIGHT
DTSTART;VALUE=DATE-TIME:20240331T020000
TZNAME:WEST
TZOFFSETFROM:+0000
TZOFFSETTO:+0100
END:DAYLIGHT
END:VTIMEZONE
END:VCALENDAR
