BEGIN:VCALENDAR
VERSION:2.0
PRODID:-//Plone.org//NONSGML plone.app.event//EN
X-WR-TIMEZONE:Europe/Lisbon
BEGIN:VEVENT
SUMMARY:Entrega de Diplomas - finalistas e excelência
DTSTART;TZID=Europe/Lisbon;VALUE=DATE-TIME:20241018T183000
DTSTAMP;VALUE=DATE-TIME:20260421T195153Z
UID:ad3736fce30e4aa9ad07fff1045a411f@zope
ATTENDEE;CN="Alunos finalistas do 12.º ano e diplomas de Excelência dos 
 alunos do 3.º ciclo e Secundário";ROLE=REQ-PARTICIPANT:Alunos finalistas
  do 12.º ano e diplomas de Excelência dos alunos do 3.º ciclo e Secund
 ário
CREATED;VALUE=DATE-TIME:20241001T094247Z
DESCRIPTION:Alunos finalistas do 12.º ano e diplomas de excelência dos a
 lunos do 3.º ciclo e secundário
LAST-MODIFIED;VALUE=DATE-TIME:20250617T113205Z
LOCATION:Auditório da Câmara Municipal de Albufeira
URL:https://www.alpoente.gov.pt/agrupamento/eventos/entrega-de-diplomas-1
END:VEVENT
BEGIN:VTIMEZONE
TZID:Europe/Lisbon
X-LIC-LOCATION:Europe/Lisbon
BEGIN:DAYLIGHT
DTSTART;VALUE=DATE-TIME:20240331T020000
TZNAME:WEST
TZOFFSETFROM:+0000
TZOFFSETTO:+0100
END:DAYLIGHT
END:VTIMEZONE
END:VCALENDAR
