BEGIN:VCALENDAR
VERSION:2.0
PRODID:-//Plone.org//NONSGML plone.app.event//EN
X-WR-TIMEZONE:Europe/Lisbon
BEGIN:VEVENT
SUMMARY:Entrega de Diplomas - Quadro de mérito e valor
DTSTART;TZID=Europe/Lisbon;VALUE=DATE-TIME:20241016T180000
DTSTAMP;VALUE=DATE-TIME:20260422T124007Z
UID:a0d9d5de4c9749d0919b59805e9012ac@zope
CREATED;VALUE=DATE-TIME:20241001T093304Z
LAST-MODIFIED;VALUE=DATE-TIME:20250617T113205Z
LOCATION:Auditório da Câmara Municipal de Albufeira
URL:https://www.alpoente.gov.pt/agrupamento/eventos/diplomas-de-quadro-de-
 merito-e-de-valor-da-escola-secundaria-de-albufeira
END:VEVENT
BEGIN:VTIMEZONE
TZID:Europe/Lisbon
X-LIC-LOCATION:Europe/Lisbon
BEGIN:DAYLIGHT
DTSTART;VALUE=DATE-TIME:20240331T020000
TZNAME:WEST
TZOFFSETFROM:+0000
TZOFFSETTO:+0100
END:DAYLIGHT
END:VTIMEZONE
END:VCALENDAR
