BEGIN:VCALENDAR
VERSION:2.0
PRODID:-//Plone.org//NONSGML plone.app.event//EN
X-WR-TIMEZONE:Europe/Lisbon
BEGIN:VEVENT
SUMMARY:Dias dos Pais e Encarregados de Educação na escola
DTSTART;TZID=Europe/Lisbon;VALUE=DATE-TIME:20230224T090000
DTEND;TZID=Europe/Lisbon;VALUE=DATE-TIME:20230224T160000
DTSTAMP;VALUE=DATE-TIME:20260422T051752Z
UID:07b7c1ecf6204be1adf21eec24b7ef59@zope
ATTENDEE;CN=Pais/EE;ROLE=REQ-PARTICIPANT:Pais/EE
ATTENDEE;CN=Alunos;ROLE=REQ-PARTICIPANT:Alunos
ATTENDEE;CN=Professores;ROLE=REQ-PARTICIPANT:Professores
CREATED;VALUE=DATE-TIME:20230223T133439Z
DESCRIPTION:Atividades e eventos para todos
LAST-MODIFIED;VALUE=DATE-TIME:20250617T113205Z
LOCATION:Escolas do Agrupamento
URL:https://www.alpoente.gov.pt/agrupamento/eventos/dias-dos-pais-e-encarr
 egados-de-educacao-na-escola
END:VEVENT
BEGIN:VTIMEZONE
TZID:Europe/Lisbon
X-LIC-LOCATION:Europe/Lisbon
BEGIN:STANDARD
DTSTART;VALUE=DATE-TIME:20221030T010000
TZNAME:WET
TZOFFSETFROM:+0100
TZOFFSETTO:+0000
END:STANDARD
END:VTIMEZONE
END:VCALENDAR
