BEGIN:VCALENDAR
VERSION:2.0
PRODID:-//Plone.org//NONSGML plone.app.event//EN
X-WR-TIMEZONE:Europe/Lisbon
BEGIN:VEVENT
SUMMARY:Dia dos Pais e Encarregados de Educação
DTSTART;TZID=Europe/Lisbon;VALUE=DATE-TIME:20240228T083000
DTEND;TZID=Europe/Lisbon;VALUE=DATE-TIME:20240228T160000
DTSTAMP;VALUE=DATE-TIME:20260421T194506Z
UID:db693b710b4d467294a5e233ec5d9c3d@zope
ATTENDEE;CN="Toda a comunidade";ROLE=REQ-PARTICIPANT:Toda a comunidade
CREATED;VALUE=DATE-TIME:20240224T005126Z
LAST-MODIFIED;VALUE=DATE-TIME:20250617T113205Z
LOCATION:Escola Secundária de Albufeira
URL:https://www.alpoente.gov.pt/agrupamento/eventos/dia-dos-pais-e-encarre
 gados-de-educacao
END:VEVENT
BEGIN:VTIMEZONE
TZID:Europe/Lisbon
X-LIC-LOCATION:Europe/Lisbon
BEGIN:STANDARD
DTSTART;VALUE=DATE-TIME:20231029T010000
TZNAME:WET
TZOFFSETFROM:+0100
TZOFFSETTO:+0000
END:STANDARD
END:VTIMEZONE
END:VCALENDAR
