BEGIN:VCALENDAR
VERSION:2.0
PRODID:-//Plone.org//NONSGML plone.app.event//EN
X-WR-TIMEZONE:Europe/Lisbon
BEGIN:VEVENT
SUMMARY:Dia do Diploma
DTSTART;TZID=Europe/Lisbon;VALUE=DATE-TIME:20221014T180000
DTSTAMP;VALUE=DATE-TIME:20260422T050221Z
UID:e84c3685a37a47e2b1711b61db751669@zope
ATTENDEE;CN="Alunos finalistas do Ensino Secundário no ano letivo 2021/20
 22";ROLE=REQ-PARTICIPANT:Alunos finalistas do Ensino Secundário no ano le
 tivo 2021/2022
CREATED;VALUE=DATE-TIME:20220907T191441Z
DESCRIPTION:Entrega dos diplomas aos alunos finalistas
LAST-MODIFIED;VALUE=DATE-TIME:20250617T113205Z
LOCATION:Auditório da Câmara Municipal de Albufeira
URL:https://www.alpoente.gov.pt/agrupamento/eventos/dia-do-diploma
END:VEVENT
BEGIN:VTIMEZONE
TZID:Europe/Lisbon
X-LIC-LOCATION:Europe/Lisbon
BEGIN:DAYLIGHT
DTSTART;VALUE=DATE-TIME:20220327T020000
TZNAME:WEST
TZOFFSETFROM:+0000
TZOFFSETTO:+0100
END:DAYLIGHT
END:VTIMEZONE
END:VCALENDAR
