BEGIN:VCALENDAR
VERSION:2.0
PRODID:-//Plone.org//NONSGML plone.app.event//EN
X-WR-TIMEZONE:Europe/Lisbon
BEGIN:VEVENT
SUMMARY:Dia do Diploma
DTSTART;TZID=Europe/Lisbon;VALUE=DATE-TIME:20231020T180000
DTSTAMP;VALUE=DATE-TIME:20260422T051226Z
UID:a7110ca8f1714e3ba2881434e52df6b4@zope
ATTENDEE;CN="Alunos finalistas do Ensino Secundário no ano letivo 2022/20
 23";ROLE=REQ-PARTICIPANT:Alunos finalistas do Ensino Secundário no ano le
 tivo 2022/2023
CREATED;VALUE=DATE-TIME:20220907T191441Z
DESCRIPTION:Entrega dos diplomas aos alunos finalistas
LAST-MODIFIED;VALUE=DATE-TIME:20250617T113205Z
LOCATION:Auditório da Câmara Municipal de Albufeira
URL:https://www.alpoente.gov.pt/agrupamento/eventos/dia-do-diploma-23
END:VEVENT
BEGIN:VTIMEZONE
TZID:Europe/Lisbon
X-LIC-LOCATION:Europe/Lisbon
BEGIN:DAYLIGHT
DTSTART;VALUE=DATE-TIME:20230326T020000
TZNAME:WEST
TZOFFSETFROM:+0000
TZOFFSETTO:+0100
END:DAYLIGHT
END:VTIMEZONE
END:VCALENDAR
